BEGIN:VCALENDAR
VERSION:2.0
PRODID:-//ビバ・フローラ - ECPv4.6//NONSGML v1.0//EN
CALSCALE:GREGORIAN
METHOD:PUBLISH
X-WR-CALNAME:ビバ・フローラ
X-ORIGINAL-URL:http://viva.setagaya-hp.or.jp
X-WR-CALDESC:Events for ビバ・フローラ
BEGIN:VEVENT
DTSTART;TZID=Asia/Tokyo:20160513T140000
DTEND;TZID=Asia/Tokyo:20160513T150000
DTSTAMP:20260420T105610
CREATED:20160427T030121Z
LAST-MODIFIED:20160427T031717Z
UID:528-1463148000-1463151600@viva.setagaya-hp.or.jp
SUMMARY:紙芝居とウクレレと歌の会
DESCRIPTION:
URL:http://viva.setagaya-hp.or.jp/event/%e7%b4%99%e8%8a%9d%e5%b1%85%e3%81%a8%e3%82%a6%e3%82%af%e3%83%ac%e3%83%ac%e3%81%a8%e6%ad%8c/
END:VEVENT
END:VCALENDAR