BEGIN:VCALENDAR
VERSION:2.0
PRODID:-//ビバ・フローラ - ECPv4.6//NONSGML v1.0//EN
CALSCALE:GREGORIAN
METHOD:PUBLISH
X-WR-CALNAME:ビバ・フローラ
X-ORIGINAL-URL:http://viva.setagaya-hp.or.jp
X-WR-CALDESC:Events for ビバ・フローラ
BEGIN:VEVENT
DTSTART;TZID=Asia/Tokyo:20230914T140000
DTEND;TZID=Asia/Tokyo:20230914T150000
DTSTAMP:20260422T044113
CREATED:20230831T004425Z
LAST-MODIFIED:20230831T004425Z
UID:9863-1694700000-1694703600@viva.setagaya-hp.or.jp
SUMMARY:落語と三味線
DESCRIPTION:
URL:http://viva.setagaya-hp.or.jp/event/%e8%90%bd%e8%aa%9e%e3%81%a8%e4%b8%89%e5%91%b3%e7%b7%9a/
END:VEVENT
END:VCALENDAR