BEGIN:VCALENDAR
VERSION:2.0
PRODID:-//ビバ・フローラ - ECPv4.6//NONSGML v1.0//EN
CALSCALE:GREGORIAN
METHOD:PUBLISH
X-WR-CALNAME:ビバ・フローラ
X-ORIGINAL-URL:http://viva.setagaya-hp.or.jp
X-WR-CALDESC:Events for ビバ・フローラ
BEGIN:VEVENT
DTSTART;TZID=Asia/Tokyo:20160426T140000
DTEND;TZID=Asia/Tokyo:20160426T144000
DTSTAMP:20260420T052721
CREATED:20160323T002258Z
LAST-MODIFIED:20160331T020412Z
UID:505-1461679200-1461681600@viva.setagaya-hp.or.jp
SUMMARY:立川志の彦　落語会
DESCRIPTION:
URL:http://viva.setagaya-hp.or.jp/event/%e8%90%bd%e8%aa%9e/
END:VEVENT
END:VCALENDAR