BEGIN:VCALENDAR
VERSION:2.0
PRODID:-//ビバ・フローラ - ECPv4.6//NONSGML v1.0//EN
CALSCALE:GREGORIAN
METHOD:PUBLISH
X-WR-CALNAME:ビバ・フローラ
X-ORIGINAL-URL:http://viva.setagaya-hp.or.jp
X-WR-CALDESC:Events for ビバ・フローラ
BEGIN:VEVENT
DTSTART;TZID=Asia/Tokyo:20161006T080000
DTEND;TZID=Asia/Tokyo:20161006T170000
DTSTAMP:20260419T231532
CREATED:20160812T013327Z
LAST-MODIFIED:20160812T013327Z
UID:627-1475740800-1475773200@viva.setagaya-hp.or.jp
SUMMARY:遠足（デイ）
DESCRIPTION:
URL:http://viva.setagaya-hp.or.jp/event/%e9%81%a0%e8%b6%b3%ef%bc%88%e3%83%87%e3%82%a4%ef%bc%89/
END:VEVENT
END:VCALENDAR