BEGIN:VCALENDAR
VERSION:2.0
PRODID:-//ビバ・フローラ - ECPv4.6//NONSGML v1.0//EN
CALSCALE:GREGORIAN
METHOD:PUBLISH
X-WR-CALNAME:ビバ・フローラ
X-ORIGINAL-URL:http://viva.setagaya-hp.or.jp
X-WR-CALDESC:Events for ビバ・フローラ
BEGIN:VEVENT
DTSTART;TZID=Asia/Tokyo:20251106T140000
DTEND;TZID=Asia/Tokyo:20251106T150000
DTSTAMP:20260425T142824
CREATED:20241127T024336Z
LAST-MODIFIED:20241127T024336Z
UID:11629-1762437600-1762441200@viva.setagaya-hp.or.jp
SUMMARY:音楽会&#x1f3b5;
DESCRIPTION:
URL:http://viva.setagaya-hp.or.jp/event/%e9%9f%b3%e6%a5%bd%e4%bc%9a%f0%9f%8e%b5-150/
END:VEVENT
END:VCALENDAR