BEGIN:VCALENDAR
VERSION:2.0
PRODID:-//ビバ・フローラ - ECPv4.6//NONSGML v1.0//EN
CALSCALE:GREGORIAN
METHOD:PUBLISH
X-WR-CALNAME:ビバ・フローラ
X-ORIGINAL-URL:http://viva.setagaya-hp.or.jp
X-WR-CALDESC:Events for ビバ・フローラ
BEGIN:VEVENT
DTSTART;TZID=Asia/Tokyo:20231116T140000
DTEND;TZID=Asia/Tokyo:20231116T150000
DTSTAMP:20260421T182432
CREATED:20230123T020925Z
LAST-MODIFIED:20230123T020934Z
UID:9295-1700143200-1700146800@viva.setagaya-hp.or.jp
SUMMARY:音楽会&#x1f3b5;
DESCRIPTION:
URL:http://viva.setagaya-hp.or.jp/event/%e9%9f%b3%e6%a5%bd%e4%bc%9a-111/
END:VEVENT
END:VCALENDAR