BEGIN:VCALENDAR
VERSION:2.0
PRODID:-//ビバ・フローラ - ECPv4.6//NONSGML v1.0//EN
CALSCALE:GREGORIAN
METHOD:PUBLISH
X-WR-CALNAME:ビバ・フローラ
X-ORIGINAL-URL:http://viva.setagaya-hp.or.jp
X-WR-CALDESC:Events for ビバ・フローラ
BEGIN:VEVENT
DTSTART;TZID=Asia/Tokyo:20240627T140000
DTEND;TZID=Asia/Tokyo:20240627T150000
DTSTAMP:20260425T105838
CREATED:20240125T060749Z
LAST-MODIFIED:20240125T060749Z
UID:10457-1719496800-1719500400@viva.setagaya-hp.or.jp
SUMMARY:音楽会
DESCRIPTION:
URL:http://viva.setagaya-hp.or.jp/event/%e9%9f%b3%e6%a5%bd%e4%bc%9a-130/
END:VEVENT
END:VCALENDAR