BEGIN:VCALENDAR
VERSION:2.0
PRODID:-//ビバ・フローラ - ECPv4.6//NONSGML v1.0//EN
CALSCALE:GREGORIAN
METHOD:PUBLISH
X-WR-CALNAME:ビバ・フローラ
X-ORIGINAL-URL:http://viva.setagaya-hp.or.jp
X-WR-CALDESC:Events for ビバ・フローラ
BEGIN:VEVENT
DTSTART;TZID=Asia/Tokyo:20151105T140000
DTEND;TZID=Asia/Tokyo:20151105T150000
DTSTAMP:20260421T040141
CREATED:20151015T070557Z
LAST-MODIFIED:20151109T075359Z
UID:268-1446732000-1446735600@viva.setagaya-hp.or.jp
SUMMARY:音楽会
DESCRIPTION:
URL:http://viva.setagaya-hp.or.jp/event/%e9%9f%b3%e6%a5%bd%e4%bc%9a-6/
END:VEVENT
END:VCALENDAR