BEGIN:VCALENDAR
VERSION:2.0
PRODID:-//ビバ・フローラ - ECPv4.6//NONSGML v1.0//EN
CALSCALE:GREGORIAN
METHOD:PUBLISH
X-WR-CALNAME:ビバ・フローラ
X-ORIGINAL-URL:http://viva.setagaya-hp.or.jp
X-WR-CALDESC:Events for ビバ・フローラ
BEGIN:VEVENT
DTSTART;TZID=Asia/Tokyo:20180524T140000
DTEND;TZID=Asia/Tokyo:20180524T150000
DTSTAMP:20260419T194257
CREATED:20180223T022744Z
LAST-MODIFIED:20180223T022744Z
UID:1165-1527170400-1527174000@viva.setagaya-hp.or.jp
SUMMARY:音楽会
DESCRIPTION:
URL:http://viva.setagaya-hp.or.jp/event/%e9%9f%b3%e6%a5%bd%e4%bc%9a-84/
END:VEVENT
END:VCALENDAR