BEGIN:VCALENDAR
VERSION:2.0
PRODID:-//ビバ・フローラ - ECPv4.6//NONSGML v1.0//EN
CALSCALE:GREGORIAN
METHOD:PUBLISH
X-WR-CALNAME:ビバ・フローラ
X-ORIGINAL-URL:http://viva.setagaya-hp.or.jp
X-WR-CALDESC:Events for ビバ・フローラ
BEGIN:VEVENT
DTSTART;TZID=Asia/Tokyo:20210730T130000
DTEND;TZID=Asia/Tokyo:20210730T150000
DTSTAMP:20260419T165839
CREATED:20210417T000116Z
LAST-MODIFIED:20210417T000116Z
UID:7007-1627650000-1627657200@viva.setagaya-hp.or.jp
SUMMARY:（囲碁）
DESCRIPTION:
URL:http://viva.setagaya-hp.or.jp/event/%ef%bc%88%e5%9b%b2%e7%a2%81%ef%bc%89-44/
END:VEVENT
END:VCALENDAR