BEGIN:VCALENDAR
VERSION:2.0
PRODID:-//ビバ・フローラ - ECPv4.6//NONSGML v1.0//EN
CALSCALE:GREGORIAN
METHOD:PUBLISH
X-WR-CALNAME:ビバ・フローラ
X-ORIGINAL-URL:http://viva.setagaya-hp.or.jp
X-WR-CALDESC:Events for ビバ・フローラ
BEGIN:VEVENT
DTSTART;TZID=Asia/Tokyo:20170601T093000
DTEND;TZID=Asia/Tokyo:20170601T113000
DTSTAMP:20260420T075413
CREATED:20170207T020331Z
LAST-MODIFIED:20170207T020331Z
UID:786-1496309400-1496316600@viva.setagaya-hp.or.jp
SUMMARY:散髪
DESCRIPTION:
URL:http://viva.setagaya-hp.or.jp/event/%e6%95%a3%e9%ab%aa/
END:VEVENT
BEGIN:VEVENT
DTSTART;TZID=Asia/Tokyo:20170601T140000
DTEND;TZID=Asia/Tokyo:20170601T150000
DTSTAMP:20260420T075413
CREATED:20170207T020437Z
LAST-MODIFIED:20170207T020437Z
UID:788-1496325600-1496329200@viva.setagaya-hp.or.jp
SUMMARY:音楽会
DESCRIPTION:
URL:http://viva.setagaya-hp.or.jp/event/%e9%9f%b3%e6%a5%bd%e4%bc%9a-54/
END:VEVENT
END:VCALENDAR