BEGIN:VCALENDAR
VERSION:2.0
PRODID:-//ビバ・フローラ - ECPv4.6//NONSGML v1.0//EN
CALSCALE:GREGORIAN
METHOD:PUBLISH
X-WR-CALNAME:ビバ・フローラ
X-ORIGINAL-URL:http://viva.setagaya-hp.or.jp
X-WR-CALDESC:Events for ビバ・フローラ
BEGIN:VEVENT
DTSTART;TZID=Asia/Tokyo:20231214T120000
DTEND;TZID=Asia/Tokyo:20231214T130000
DTSTAMP:20260425T005320
CREATED:20231206T011054Z
LAST-MODIFIED:20231206T011054Z
UID:10293-1702555200-1702558800@viva.setagaya-hp.or.jp
SUMMARY:本日のランチ
DESCRIPTION:ごはん\n肉味噌豆腐\n焼きビーフン\nカリフラワーサラダ\n麩のすまし汁\nキウイフルーツ \n
URL:http://viva.setagaya-hp.or.jp/event/%e6%9c%ac%e6%97%a5%e3%81%ae%e3%83%a9%e3%83%b3%e3%83%81-1586/
END:VEVENT
BEGIN:VEVENT
DTSTART;TZID=Asia/Tokyo:20231214T140000
DTEND;TZID=Asia/Tokyo:20231214T150000
DTSTAMP:20260425T005320
CREATED:20230123T021630Z
LAST-MODIFIED:20230123T021640Z
UID:9316-1702562400-1702566000@viva.setagaya-hp.or.jp
SUMMARY:音楽会&#x1f3b5;
DESCRIPTION:
URL:http://viva.setagaya-hp.or.jp/event/%e9%9f%b3%e6%a5%bd%e4%bc%9a-113/
END:VEVENT
END:VCALENDAR