BEGIN:VCALENDAR
VERSION:2.0
PRODID:-//ビバ・フローラ - ECPv4.6//NONSGML v1.0//EN
CALSCALE:GREGORIAN
METHOD:PUBLISH
X-WR-CALNAME:ビバ・フローラ
X-ORIGINAL-URL:http://viva.setagaya-hp.or.jp
X-WR-CALDESC:Events for ビバ・フローラ
BEGIN:VEVENT
DTSTART;TZID=Asia/Tokyo:20231216T080000
DTEND;TZID=Asia/Tokyo:20231216T170000
DTSTAMP:20260424T220710
CREATED:20230316T031226Z
LAST-MODIFIED:20230316T031238Z
UID:9465-1702713600-1702746000@viva.setagaya-hp.or.jp
SUMMARY:ボロ市
DESCRIPTION:
URL:http://viva.setagaya-hp.or.jp/event/%e3%83%9c%e3%83%ad%e5%b8%82-24/
END:VEVENT
BEGIN:VEVENT
DTSTART;TZID=Asia/Tokyo:20231216T120000
DTEND;TZID=Asia/Tokyo:20231216T130000
DTSTAMP:20260424T220710
CREATED:20231206T011144Z
LAST-MODIFIED:20231206T011144Z
UID:10297-1702728000-1702731600@viva.setagaya-hp.or.jp
SUMMARY:本日のランチ
DESCRIPTION:ポークカレー\n福神漬・楽京漬\n小エビのサラダ\nトマトスープ\nみかん \n
URL:http://viva.setagaya-hp.or.jp/event/%e6%9c%ac%e6%97%a5%e3%81%ae%e3%83%a9%e3%83%b3%e3%83%81-1588/
END:VEVENT
END:VCALENDAR