BEGIN:VCALENDAR
VERSION:2.0
PRODID:-//ビバ・フローラ - ECPv4.6//NONSGML v1.0//EN
CALSCALE:GREGORIAN
METHOD:PUBLISH
X-WR-CALNAME:ビバ・フローラ
X-ORIGINAL-URL:http://viva.setagaya-hp.or.jp
X-WR-CALDESC:Events for ビバ・フローラ
BEGIN:VEVENT
DTSTART;TZID=Asia/Tokyo:20231225T080000
DTEND;TZID=Asia/Tokyo:20231225T170000
DTSTAMP:20260424T091728
CREATED:20231221T020837Z
LAST-MODIFIED:20231221T020837Z
UID:10354-1703491200-1703523600@viva.setagaya-hp.or.jp
SUMMARY:クリスマス&#x1f384;
DESCRIPTION:
URL:http://viva.setagaya-hp.or.jp/event/%e3%82%af%e3%83%aa%e3%82%b9%e3%83%9e%e3%82%b9%f0%9f%8e%84-3/
END:VEVENT
BEGIN:VEVENT
DTSTART;TZID=Asia/Tokyo:20231225T120000
DTEND;TZID=Asia/Tokyo:20231225T130000
DTSTAMP:20260424T091728
CREATED:20231218T053932Z
LAST-MODIFIED:20231221T020816Z
UID:10335-1703505600-1703509200@viva.setagaya-hp.or.jp
SUMMARY:本日のランチ
DESCRIPTION:チキンライス\nかにクリームコロッケ\nキャベツとりんごサラダ\nコーンポタージュ\nいちごゼリー \n
URL:http://viva.setagaya-hp.or.jp/event/%e6%9c%ac%e6%97%a5%e3%81%ae%e3%83%a9%e3%83%b3%e3%83%81-1596/
END:VEVENT
BEGIN:VEVENT
DTSTART;TZID=Asia/Tokyo:20231225T140000
DTEND;TZID=Asia/Tokyo:20231225T150000
DTSTAMP:20260424T091728
CREATED:20230123T021324Z
LAST-MODIFIED:20230123T021324Z
UID:9304-1703512800-1703516400@viva.setagaya-hp.or.jp
SUMMARY:書道教室
DESCRIPTION:
URL:http://viva.setagaya-hp.or.jp/event/%e6%9b%b8%e9%81%93%e6%95%99%e5%ae%a4-369/
END:VEVENT
END:VCALENDAR