BEGIN:VCALENDAR
VERSION:2.0
PRODID:-//ビバ・フローラ - ECPv4.6//NONSGML v1.0//EN
CALSCALE:GREGORIAN
METHOD:PUBLISH
X-WR-CALNAME:ビバ・フローラ
X-ORIGINAL-URL:http://viva.setagaya-hp.or.jp
X-WR-CALDESC:Events for ビバ・フローラ
BEGIN:VEVENT
DTSTART;VALUE=DATE:20240115
DTEND;VALUE=DATE:20240115
DTSTAMP:20260421T022648
CREATED:20230909T014832Z
LAST-MODIFIED:20230909T014832Z
UID:9938-1705276800-1705363199@viva.setagaya-hp.or.jp
SUMMARY:ボロ市
DESCRIPTION:
URL:http://viva.setagaya-hp.or.jp/event/%e3%83%9c%e3%83%ad%e5%b8%82-25/
END:VEVENT
BEGIN:VEVENT
DTSTART;TZID=Asia/Tokyo:20240115T120000
DTEND;TZID=Asia/Tokyo:20240115T130000
DTSTAMP:20260421T022648
CREATED:20240110T015230Z
LAST-MODIFIED:20240110T015230Z
UID:10391-1705320000-1705323600@viva.setagaya-hp.or.jp
SUMMARY:本日のランチ
DESCRIPTION:バターロール\nシーフードシチュー\nコールスローサラダ\nみかん \n
URL:http://viva.setagaya-hp.or.jp/event/%e6%9c%ac%e6%97%a5%e3%81%ae%e3%83%a9%e3%83%b3%e3%83%81-1616/
END:VEVENT
BEGIN:VEVENT
DTSTART;TZID=Asia/Tokyo:20240115T140000
DTEND;TZID=Asia/Tokyo:20240115T150000
DTSTAMP:20260421T022648
CREATED:20230909T015543Z
LAST-MODIFIED:20230909T015543Z
UID:9947-1705327200-1705330800@viva.setagaya-hp.or.jp
SUMMARY:書道教室
DESCRIPTION:
URL:http://viva.setagaya-hp.or.jp/event/%e6%9b%b8%e9%81%93%e6%95%99%e5%ae%a4-355/
END:VEVENT
END:VCALENDAR