BEGIN:VCALENDAR
VERSION:2.0
PRODID:-//ビバ・フローラ - ECPv4.6//NONSGML v1.0//EN
CALSCALE:GREGORIAN
METHOD:PUBLISH
X-WR-CALNAME:ビバ・フローラ
X-ORIGINAL-URL:http://viva.setagaya-hp.or.jp
X-WR-CALDESC:Events for ビバ・フローラ
BEGIN:VEVENT
DTSTART;TZID=Asia/Tokyo:20240117T120000
DTEND;TZID=Asia/Tokyo:20240117T130000
DTSTAMP:20260420T232858
CREATED:20240110T015318Z
LAST-MODIFIED:20240110T015318Z
UID:10395-1705492800-1705496400@viva.setagaya-hp.or.jp
SUMMARY:本日のランチ
DESCRIPTION:ゆかりごはん\nタラの甘辛焼き\n切干大根の炒め煮\nうぐいす豆\n芋煮椀\nフルーツ缶 \n
URL:http://viva.setagaya-hp.or.jp/event/%e6%9c%ac%e6%97%a5%e3%81%ae%e3%83%a9%e3%83%b3%e3%83%81-1618/
END:VEVENT
END:VCALENDAR