BEGIN:VCALENDAR
VERSION:2.0
PRODID:-//ビバ・フローラ - ECPv4.6//NONSGML v1.0//EN
CALSCALE:GREGORIAN
METHOD:PUBLISH
X-WR-CALNAME:ビバ・フローラ
X-ORIGINAL-URL:http://viva.setagaya-hp.or.jp
X-WR-CALDESC:Events for ビバ・フローラ
BEGIN:VEVENT
DTSTART;TZID=Asia/Tokyo:20240126T120000
DTEND;TZID=Asia/Tokyo:20240126T130000
DTSTAMP:20260420T093040
CREATED:20240117T001150Z
LAST-MODIFIED:20240117T001150Z
UID:10416-1706270400-1706274000@viva.setagaya-hp.or.jp
SUMMARY:本日のランチ
DESCRIPTION:ごはん\n赤魚の粕漬け焼き\n里芋のごま味噌焼き\nほうれん草の柚子びたし\n豚汁\nフルーツ缶 \n
URL:http://viva.setagaya-hp.or.jp/event/%e6%9c%ac%e6%97%a5%e3%81%ae%e3%83%a9%e3%83%b3%e3%83%81-1627/
END:VEVENT
BEGIN:VEVENT
DTSTART;TZID=Asia/Tokyo:20240126T140000
DTEND;TZID=Asia/Tokyo:20240126T150000
DTSTAMP:20260420T093040
CREATED:20231222T044732Z
LAST-MODIFIED:20231222T044740Z
UID:10356-1706277600-1706281200@viva.setagaya-hp.or.jp
SUMMARY:ピアノとフルート&#x1f3b9;
DESCRIPTION:
URL:http://viva.setagaya-hp.or.jp/event/%e3%83%94%e3%82%a2%e3%83%8e%e3%81%a8%e3%83%95%e3%83%ab%e3%83%bc%e3%83%88-39/
END:VEVENT
END:VCALENDAR