BEGIN:VCALENDAR
VERSION:2.0
PRODID:-//ビバ・フローラ - ECPv4.6//NONSGML v1.0//EN
CALSCALE:GREGORIAN
METHOD:PUBLISH
X-WR-CALNAME:ビバ・フローラ
X-ORIGINAL-URL:http://viva.setagaya-hp.or.jp
X-WR-CALDESC:Events for ビバ・フローラ
BEGIN:VEVENT
DTSTART;TZID=Asia/Tokyo:20240131T120000
DTEND;TZID=Asia/Tokyo:20240131T130000
DTSTAMP:20260420T015807
CREATED:20240124T015842Z
LAST-MODIFIED:20240124T015842Z
UID:10427-1706702400-1706706000@viva.setagaya-hp.or.jp
SUMMARY:本日のランチ
DESCRIPTION:枝豆ごはん\n鶏唐揚げの香味ソース\nひじきの煮付け\nカリフラワーのくるみ和え\n青菜のすまし汁\nフルーツ缶 \n
URL:http://viva.setagaya-hp.or.jp/event/%e6%9c%ac%e6%97%a5%e3%81%ae%e3%83%a9%e3%83%b3%e3%83%81-1632/
END:VEVENT
END:VCALENDAR