BEGIN:VCALENDAR
VERSION:2.0
PRODID:-//ビバ・フローラ - ECPv4.6//NONSGML v1.0//EN
CALSCALE:GREGORIAN
METHOD:PUBLISH
X-WR-CALNAME:ビバ・フローラ
X-ORIGINAL-URL:http://viva.setagaya-hp.or.jp
X-WR-CALDESC:Events for ビバ・フローラ
BEGIN:VEVENT
DTSTART;TZID=Asia/Tokyo:20240202T120000
DTEND;TZID=Asia/Tokyo:20240202T130000
DTSTAMP:20260419T231109
CREATED:20240124T015933Z
LAST-MODIFIED:20240124T015933Z
UID:10431-1706875200-1706878800@viva.setagaya-hp.or.jp
SUMMARY:本日のランチ
DESCRIPTION:ハヤシライス\n菜の花マカロニサラダ\nポトフ風スープ\nピーチゼリー \n
URL:http://viva.setagaya-hp.or.jp/event/%e6%9c%ac%e6%97%a5%e3%81%ae%e3%83%a9%e3%83%b3%e3%83%81-1634/
END:VEVENT
END:VCALENDAR