BEGIN:VCALENDAR
VERSION:2.0
PRODID:-//ビバ・フローラ - ECPv4.6//NONSGML v1.0//EN
CALSCALE:GREGORIAN
METHOD:PUBLISH
X-WR-CALNAME:ビバ・フローラ
X-ORIGINAL-URL:http://viva.setagaya-hp.or.jp
X-WR-CALDESC:Events for ビバ・フローラ
BEGIN:VEVENT
DTSTART;TZID=Asia/Tokyo:20250624T120000
DTEND;TZID=Asia/Tokyo:20250624T130000
DTSTAMP:20260420T090111
CREATED:20250618T002159Z
LAST-MODIFIED:20250618T002159Z
UID:12273-1750766400-1750770000@viva.setagaya-hp.or.jp
SUMMARY:本日のランチ
DESCRIPTION:ごはん\nアジフライ\nマカロニナポリタン\nチーズサラダ\n小松菜の味噌汁\nパインゼリー \n
URL:http://viva.setagaya-hp.or.jp/event/%e6%9c%ac%e6%97%a5%e3%81%ae%e3%83%a9%e3%83%b3%e3%83%81-2125/
END:VEVENT
BEGIN:VEVENT
DTSTART;TZID=Asia/Tokyo:20250624T140000
DTEND;TZID=Asia/Tokyo:20250624T150000
DTSTAMP:20260420T090111
CREATED:20250523T063630Z
LAST-MODIFIED:20250523T063630Z
UID:12154-1750773600-1750777200@viva.setagaya-hp.or.jp
SUMMARY:ピアノとフルート&#x1f3b9;
DESCRIPTION:
URL:http://viva.setagaya-hp.or.jp/event/%e3%83%94%e3%82%a2%e3%83%8e%e3%81%a8%e3%83%95%e3%83%ab%e3%83%bc%e3%83%88%f0%9f%8e%b9-48/
END:VEVENT
END:VCALENDAR