BEGIN:VCALENDAR
VERSION:2.0
PRODID:-//ビバ・フローラ - ECPv4.6//NONSGML v1.0//EN
CALSCALE:GREGORIAN
METHOD:PUBLISH
X-WR-CALNAME:ビバ・フローラ
X-ORIGINAL-URL:http://viva.setagaya-hp.or.jp
X-WR-CALDESC:Events for ビバ・フローラ
BEGIN:VEVENT
DTSTART;TZID=Asia/Tokyo:20250719T120000
DTEND;TZID=Asia/Tokyo:20250719T130000
DTSTAMP:20260419T171646
CREATED:20250626T015135Z
LAST-MODIFIED:20250709T014545Z
UID:12301-1752926400-1752930000@viva.setagaya-hp.or.jp
SUMMARY:スペシャルランチ
DESCRIPTION:【土用の丑の日】\nうな重\n茶碗蒸し\nきゅうりと菊の酢の物\n潮汁\n水ようかん \n
URL:http://viva.setagaya-hp.or.jp/event/%e3%82%b9%e3%83%9a%e3%82%b7%e3%83%a3%e3%83%ab%e3%83%a9%e3%83%b3%e3%83%81-56/
END:VEVENT
END:VCALENDAR