BEGIN:VCALENDAR
VERSION:2.0
PRODID:-//ビバ・フローラ - ECPv4.6//NONSGML v1.0//EN
CALSCALE:GREGORIAN
METHOD:PUBLISH
X-WR-CALNAME:ビバ・フローラ
X-ORIGINAL-URL:http://viva.setagaya-hp.or.jp
X-WR-CALDESC:Events for ビバ・フローラ
BEGIN:VEVENT
DTSTART;VALUE=DATE:20250721
DTEND;VALUE=DATE:20250721
DTSTAMP:20260419T202122
CREATED:20240708T010121Z
LAST-MODIFIED:20240708T010121Z
UID:11008-1753056000-1753142399@viva.setagaya-hp.or.jp
SUMMARY:海の日
DESCRIPTION:
URL:http://viva.setagaya-hp.or.jp/event/%e6%b5%b7%e3%81%ae%e6%97%a5-10/
END:VEVENT
BEGIN:VEVENT
DTSTART;TZID=Asia/Tokyo:20250721T120000
DTEND;TZID=Asia/Tokyo:20250721T130000
DTSTAMP:20260419T202122
CREATED:20250716T044615Z
LAST-MODIFIED:20250716T044615Z
UID:12410-1753099200-1753102800@viva.setagaya-hp.or.jp
SUMMARY:本日のランチ
DESCRIPTION:夏野菜カレー\n福神漬・楽京漬\n大根とわかめのサラダ\nトマトスープ\nヨーグルトブルーベリーソース \n
URL:http://viva.setagaya-hp.or.jp/event/%e6%9c%ac%e6%97%a5%e3%81%ae%e3%83%a9%e3%83%b3%e3%83%81-2150/
END:VEVENT
END:VCALENDAR