BEGIN:VCALENDAR
VERSION:2.0
PRODID:-//ビバ・フローラ - ECPv4.6//NONSGML v1.0//EN
CALSCALE:GREGORIAN
METHOD:PUBLISH
X-WR-CALNAME:ビバ・フローラ
X-ORIGINAL-URL:http://viva.setagaya-hp.or.jp
X-WR-CALDESC:Events for ビバ・フローラ
BEGIN:VEVENT
DTSTART;TZID=Asia/Tokyo:20250722T120000
DTEND;TZID=Asia/Tokyo:20250722T130000
DTSTAMP:20260419T215036
CREATED:20250716T050636Z
LAST-MODIFIED:20250716T050636Z
UID:12412-1753185600-1753189200@viva.setagaya-hp.or.jp
SUMMARY:本日のランチ
DESCRIPTION:枝豆ごはん\nアジの南蛮漬け\n冬瓜と鶏肉の旨煮\nブロッコリーサラダ\nアサリの味噌汁\nラムネゼリー \n
URL:http://viva.setagaya-hp.or.jp/event/%e6%9c%ac%e6%97%a5%e3%81%ae%e3%83%a9%e3%83%b3%e3%83%81-2151/
END:VEVENT
BEGIN:VEVENT
DTSTART;TZID=Asia/Tokyo:20250722T140000
DTEND;TZID=Asia/Tokyo:20250722T150000
DTSTAMP:20260419T215036
CREATED:20250626T015058Z
LAST-MODIFIED:20250626T015058Z
UID:12299-1753192800-1753196400@viva.setagaya-hp.or.jp
SUMMARY:ピアノとフルート&#x1f3b9;
DESCRIPTION:
URL:http://viva.setagaya-hp.or.jp/event/%e3%83%94%e3%82%a2%e3%83%8e%e3%81%a8%e3%83%95%e3%83%ab%e3%83%bc%e3%83%88%f0%9f%8e%b9-49/
END:VEVENT
END:VCALENDAR