BEGIN:VCALENDAR
VERSION:2.0
PRODID:-//ビバ・フローラ - ECPv4.6//NONSGML v1.0//EN
CALSCALE:GREGORIAN
METHOD:PUBLISH
X-WR-CALNAME:ビバ・フローラ
X-ORIGINAL-URL:http://viva.setagaya-hp.or.jp
X-WR-CALDESC:Events for ビバ・フローラ
BEGIN:VEVENT
DTSTART;TZID=Asia/Tokyo:20250724T120000
DTEND;TZID=Asia/Tokyo:20250724T130000
DTSTAMP:20260420T021043
CREATED:20250716T050734Z
LAST-MODIFIED:20250716T050734Z
UID:12416-1753358400-1753362000@viva.setagaya-hp.or.jp
SUMMARY:本日のランチ
DESCRIPTION:ごはん\n麻婆なす\n小松菜のしらす炒め\n春雨の中華サラダ\n中華スープ\n梅ゼリー \n
URL:http://viva.setagaya-hp.or.jp/event/%e6%9c%ac%e6%97%a5%e3%81%ae%e3%83%a9%e3%83%b3%e3%83%81-2153/
END:VEVENT
BEGIN:VEVENT
DTSTART;TZID=Asia/Tokyo:20250724T140000
DTEND;TZID=Asia/Tokyo:20250724T150000
DTSTAMP:20260420T021043
CREATED:20241126T054851Z
LAST-MODIFIED:20241126T054851Z
UID:11543-1753365600-1753369200@viva.setagaya-hp.or.jp
SUMMARY:音楽会&#x1f3b5;
DESCRIPTION:
URL:http://viva.setagaya-hp.or.jp/event/%e9%9f%b3%e6%a5%bd%e4%bc%9a%f0%9f%8e%b5-142/
END:VEVENT
END:VCALENDAR