BEGIN:VCALENDAR
VERSION:2.0
PRODID:-//ビバ・フローラ - ECPv4.6//NONSGML v1.0//EN
CALSCALE:GREGORIAN
METHOD:PUBLISH
X-WR-CALNAME:ビバ・フローラ
X-ORIGINAL-URL:http://viva.setagaya-hp.or.jp
X-WR-CALDESC:Events for ビバ・フローラ
BEGIN:VEVENT
DTSTART;TZID=Asia/Tokyo:20250729T120000
DTEND;TZID=Asia/Tokyo:20250729T130000
DTSTAMP:20260420T155341
CREATED:20250722T055557Z
LAST-MODIFIED:20250722T055557Z
UID:12478-1753790400-1753794000@viva.setagaya-hp.or.jp
SUMMARY:本日のランチ
DESCRIPTION:ごはん\n生揚と豚肉の味噌炒め\n冬瓜の海老あんかけ\n冷やしトマト\nヨーグルトババロア\n中華スープ \n
URL:http://viva.setagaya-hp.or.jp/event/%e6%9c%ac%e6%97%a5%e3%81%ae%e3%83%a9%e3%83%b3%e3%83%81-2158/
END:VEVENT
END:VCALENDAR