BEGIN:VCALENDAR
VERSION:2.0
PRODID:-//ビバ・フローラ - ECPv4.6//NONSGML v1.0//EN
CALSCALE:GREGORIAN
METHOD:PUBLISH
X-WR-CALNAME:ビバ・フローラ
X-ORIGINAL-URL:http://viva.setagaya-hp.or.jp
X-WR-CALDESC:Events for ビバ・フローラ
BEGIN:VEVENT
DTSTART;TZID=Asia/Tokyo:20250804T120000
DTEND;TZID=Asia/Tokyo:20250804T130000
DTSTAMP:20260421T010953
CREATED:20250730T072844Z
LAST-MODIFIED:20250730T072844Z
UID:12495-1754308800-1754312400@viva.setagaya-hp.or.jp
SUMMARY:本日のランチ
DESCRIPTION:パン\nシーフードシチュー\nじゃがいもたらこ炒め\nアスパラサラダ\nフルーツ缶 \n
URL:http://viva.setagaya-hp.or.jp/event/%e6%9c%ac%e6%97%a5%e3%81%ae%e3%83%a9%e3%83%b3%e3%83%81-2164/
END:VEVENT
BEGIN:VEVENT
DTSTART;TZID=Asia/Tokyo:20250804T140000
DTEND;TZID=Asia/Tokyo:20250804T150000
DTSTAMP:20260421T010953
CREATED:20241126T064602Z
LAST-MODIFIED:20241126T064602Z
UID:11553-1754316000-1754319600@viva.setagaya-hp.or.jp
SUMMARY:書道教室
DESCRIPTION:
URL:http://viva.setagaya-hp.or.jp/event/%e6%9b%b8%e9%81%93%e6%95%99%e5%ae%a4-436/
END:VEVENT
END:VCALENDAR