BEGIN:VCALENDAR
VERSION:2.0
PRODID:-//ビバ・フローラ - ECPv4.6//NONSGML v1.0//EN
CALSCALE:GREGORIAN
METHOD:PUBLISH
X-WR-CALNAME:ビバ・フローラ
X-ORIGINAL-URL:http://viva.setagaya-hp.or.jp
X-WR-CALDESC:Events for ビバ・フローラ
BEGIN:VEVENT
DTSTART;TZID=Asia/Tokyo:20250807T093000
DTEND;TZID=Asia/Tokyo:20250807T113000
DTSTAMP:20260421T060959
CREATED:20241127T021045Z
LAST-MODIFIED:20241127T021045Z
UID:11568-1754559000-1754566200@viva.setagaya-hp.or.jp
SUMMARY:散髪✂
DESCRIPTION:
URL:http://viva.setagaya-hp.or.jp/event/%e6%95%a3%e9%ab%aa%e2%9c%82-13/
END:VEVENT
BEGIN:VEVENT
DTSTART;TZID=Asia/Tokyo:20250807T120000
DTEND;TZID=Asia/Tokyo:20250807T130000
DTSTAMP:20260421T060959
CREATED:20250730T073014Z
LAST-MODIFIED:20250730T073014Z
UID:12501-1754568000-1754571600@viva.setagaya-hp.or.jp
SUMMARY:本日のランチ
DESCRIPTION:ごはん\nすき焼き風煮\n小松菜の煮びたし\n和風ツナサラダ\nとろろ昆布汁\nキウイフルーツ \n
URL:http://viva.setagaya-hp.or.jp/event/%e6%9c%ac%e6%97%a5%e3%81%ae%e3%83%a9%e3%83%b3%e3%83%81-2167/
END:VEVENT
BEGIN:VEVENT
DTSTART;TZID=Asia/Tokyo:20250807T140000
DTEND;TZID=Asia/Tokyo:20250807T150000
DTSTAMP:20260421T060959
CREATED:20241127T020432Z
LAST-MODIFIED:20241127T020432Z
UID:11559-1754575200-1754578800@viva.setagaya-hp.or.jp
SUMMARY:音楽会&#x1f3b5;
DESCRIPTION:
URL:http://viva.setagaya-hp.or.jp/event/%e9%9f%b3%e6%a5%bd%e4%bc%9a%f0%9f%8e%b5-143/
END:VEVENT
END:VCALENDAR