BEGIN:VCALENDAR
VERSION:2.0
PRODID:-//ビバ・フローラ - ECPv4.6//NONSGML v1.0//EN
CALSCALE:GREGORIAN
METHOD:PUBLISH
X-WR-CALNAME:ビバ・フローラ
X-ORIGINAL-URL:http://viva.setagaya-hp.or.jp
X-WR-CALDESC:Events for ビバ・フローラ
BEGIN:VEVENT
DTSTART;VALUE=DATE:20250811
DTEND;VALUE=DATE:20250811
DTSTAMP:20260421T171847
CREATED:20240708T010642Z
LAST-MODIFIED:20240708T010642Z
UID:11010-1754870400-1754956799@viva.setagaya-hp.or.jp
SUMMARY:山の日
DESCRIPTION:
URL:http://viva.setagaya-hp.or.jp/event/%e5%b1%b1%e3%81%ae%e6%97%a5-8/
END:VEVENT
BEGIN:VEVENT
DTSTART;TZID=Asia/Tokyo:20250811T120000
DTEND;TZID=Asia/Tokyo:20250811T130000
DTSTAMP:20260421T171847
CREATED:20250806T025210Z
LAST-MODIFIED:20250806T025210Z
UID:12510-1754913600-1754917200@viva.setagaya-hp.or.jp
SUMMARY:本日のランチ
DESCRIPTION:【山の日献立】\nちらし寿司\n豚肉となすの味噌炒め\nオクラとモロヘイヤのおひたし\nあさりのすまし汁\nパインゼリー \n
URL:http://viva.setagaya-hp.or.jp/event/%e6%9c%ac%e6%97%a5%e3%81%ae%e3%83%a9%e3%83%b3%e3%83%81-2171/
END:VEVENT
END:VCALENDAR