BEGIN:VCALENDAR
VERSION:2.0
PRODID:-//ビバ・フローラ - ECPv4.6//NONSGML v1.0//EN
CALSCALE:GREGORIAN
METHOD:PUBLISH
X-WR-CALNAME:ビバ・フローラ
X-ORIGINAL-URL:http://viva.setagaya-hp.or.jp
X-WR-CALDESC:Events for ビバ・フローラ
BEGIN:VEVENT
DTSTART;TZID=Asia/Tokyo:20250812T120000
DTEND;TZID=Asia/Tokyo:20250812T130000
DTSTAMP:20260421T185133
CREATED:20250806T025235Z
LAST-MODIFIED:20250806T025235Z
UID:12512-1755000000-1755003600@viva.setagaya-hp.or.jp
SUMMARY:本日のランチ
DESCRIPTION:ごはん\nアジフライ\nマカロニナポリタン\nチーズサラダ\n麩の味噌汁\nピーチゼリー \n
URL:http://viva.setagaya-hp.or.jp/event/%e6%9c%ac%e6%97%a5%e3%81%ae%e3%83%a9%e3%83%b3%e3%83%81-2172/
END:VEVENT
END:VCALENDAR