BEGIN:VCALENDAR
VERSION:2.0
PRODID:-//ビバ・フローラ - ECPv4.6//NONSGML v1.0//EN
CALSCALE:GREGORIAN
METHOD:PUBLISH
X-WR-CALNAME:ビバ・フローラ
X-ORIGINAL-URL:http://viva.setagaya-hp.or.jp
X-WR-CALDESC:Events for ビバ・フローラ
BEGIN:VEVENT
DTSTART;TZID=Asia/Tokyo:20250816T120000
DTEND;TZID=Asia/Tokyo:20250816T130000
DTSTAMP:20260422T032645
CREATED:20250806T025444Z
LAST-MODIFIED:20250806T025444Z
UID:12520-1755345600-1755349200@viva.setagaya-hp.or.jp
SUMMARY:本日のランチ
DESCRIPTION:ごはん\n鶏の照り焼き\n高野豆腐の含め煮\nかぶの甘酢漬け\nえのきのすまし汁\n抹茶ババロア \n
URL:http://viva.setagaya-hp.or.jp/event/%e6%9c%ac%e6%97%a5%e3%81%ae%e3%83%a9%e3%83%b3%e3%83%81-2176/
END:VEVENT
END:VCALENDAR