BEGIN:VCALENDAR
VERSION:2.0
PRODID:-//ビバ・フローラ - ECPv4.6//NONSGML v1.0//EN
CALSCALE:GREGORIAN
METHOD:PUBLISH
X-WR-CALNAME:ビバ・フローラ
X-ORIGINAL-URL:http://viva.setagaya-hp.or.jp
X-WR-CALDESC:Events for ビバ・フローラ
BEGIN:VEVENT
DTSTART;TZID=Asia/Tokyo:20250821T093000
DTEND;TZID=Asia/Tokyo:20250821T113000
DTSTAMP:20260422T114933
CREATED:20241127T020732Z
LAST-MODIFIED:20241127T020732Z
UID:11565-1755768600-1755775800@viva.setagaya-hp.or.jp
SUMMARY:散髪✂
DESCRIPTION:
URL:http://viva.setagaya-hp.or.jp/event/%e6%95%a3%e9%ab%aa%e2%9c%82-12/
END:VEVENT
BEGIN:VEVENT
DTSTART;TZID=Asia/Tokyo:20250821T120000
DTEND;TZID=Asia/Tokyo:20250821T130000
DTSTAMP:20260422T114933
CREATED:20250806T061010Z
LAST-MODIFIED:20250806T061010Z
UID:12530-1755777600-1755781200@viva.setagaya-hp.or.jp
SUMMARY:本日のランチ
DESCRIPTION:ごはん\n豚肉のおろしソース\n里芋の柚子味噌煮\nオクラの梅和え\n大根のすまし汁\nあずきババロア \n
URL:http://viva.setagaya-hp.or.jp/event/%e6%9c%ac%e6%97%a5%e3%81%ae%e3%83%a9%e3%83%b3%e3%83%81-2181/
END:VEVENT
BEGIN:VEVENT
DTSTART;TZID=Asia/Tokyo:20250821T140000
DTEND;TZID=Asia/Tokyo:20250821T150000
DTSTAMP:20260422T114933
CREATED:20250714T055143Z
LAST-MODIFIED:20250714T055143Z
UID:12336-1755784800-1755788400@viva.setagaya-hp.or.jp
SUMMARY:音楽会
DESCRIPTION:
URL:http://viva.setagaya-hp.or.jp/event/%e9%9f%b3%e6%a5%bd%e4%bc%9a-147/
END:VEVENT
END:VCALENDAR