BEGIN:VCALENDAR
VERSION:2.0
PRODID:-//ビバ・フローラ - ECPv4.6//NONSGML v1.0//EN
CALSCALE:GREGORIAN
METHOD:PUBLISH
X-WR-CALNAME:ビバ・フローラ
X-ORIGINAL-URL:http://viva.setagaya-hp.or.jp
X-WR-CALDESC:Events for ビバ・フローラ
BEGIN:VEVENT
DTSTART;TZID=Asia/Tokyo:20250825T120000
DTEND;TZID=Asia/Tokyo:20250825T130000
DTSTAMP:20260422T183637
CREATED:20250821T062555Z
LAST-MODIFIED:20250821T062555Z
UID:12541-1756123200-1756126800@viva.setagaya-hp.or.jp
SUMMARY:スペシャルランチ
DESCRIPTION:とうもろこしごはん\n鶏むね肉の冷製バジルソースがけ\nローストビーフ\nパプリカのマリネ風\nビシソワーズ\nすいか \n
URL:http://viva.setagaya-hp.or.jp/event/%e3%82%b9%e3%83%9a%e3%82%b7%e3%83%a3%e3%83%ab%e3%83%a9%e3%83%b3%e3%83%81-57/
END:VEVENT
BEGIN:VEVENT
DTSTART;TZID=Asia/Tokyo:20250825T140000
DTEND;TZID=Asia/Tokyo:20250825T150000
DTSTAMP:20260422T183637
CREATED:20241127T020331Z
LAST-MODIFIED:20241127T020331Z
UID:11557-1756130400-1756134000@viva.setagaya-hp.or.jp
SUMMARY:書道教室
DESCRIPTION:
URL:http://viva.setagaya-hp.or.jp/event/%e6%9b%b8%e9%81%93%e6%95%99%e5%ae%a4-438/
END:VEVENT
END:VCALENDAR