BEGIN:VCALENDAR
VERSION:2.0
PRODID:-//ビバ・フローラ - ECPv4.6//NONSGML v1.0//EN
CALSCALE:GREGORIAN
METHOD:PUBLISH
X-WR-CALNAME:ビバ・フローラ
X-ORIGINAL-URL:http://viva.setagaya-hp.or.jp
X-WR-CALDESC:Events for ビバ・フローラ
BEGIN:VEVENT
DTSTART;TZID=Asia/Tokyo:20250828T120000
DTEND;TZID=Asia/Tokyo:20250828T130000
DTSTAMP:20260422T230927
CREATED:20250821T062856Z
LAST-MODIFIED:20250821T062856Z
UID:12549-1756382400-1756386000@viva.setagaya-hp.or.jp
SUMMARY:本日のランチ
DESCRIPTION:ごはん\nサワラの西京焼き\nれんこんのきんぴら\n青菜の辛子和え\nあさりのすまし汁\nバニラババロア \n
URL:http://viva.setagaya-hp.or.jp/event/%e6%9c%ac%e6%97%a5%e3%81%ae%e3%83%a9%e3%83%b3%e3%83%81-2187/
END:VEVENT
BEGIN:VEVENT
DTSTART;TZID=Asia/Tokyo:20250828T140000
DTEND;TZID=Asia/Tokyo:20250828T150000
DTSTAMP:20260422T230927
CREATED:20241127T020520Z
LAST-MODIFIED:20241127T020943Z
UID:11561-1756389600-1756393200@viva.setagaya-hp.or.jp
SUMMARY:音楽会&#x1f3b5;
DESCRIPTION:
URL:http://viva.setagaya-hp.or.jp/event/%e9%9f%b3%e6%a5%bd%e4%bc%9a%f0%9f%8e%b5-144/
END:VEVENT
END:VCALENDAR