BEGIN:VCALENDAR
VERSION:2.0
PRODID:-//ビバ・フローラ - ECPv4.6//NONSGML v1.0//EN
CALSCALE:GREGORIAN
METHOD:PUBLISH
X-WR-CALNAME:ビバ・フローラ
X-ORIGINAL-URL:http://viva.setagaya-hp.or.jp
X-WR-CALDESC:Events for ビバ・フローラ
BEGIN:VEVENT
DTSTART;TZID=Asia/Tokyo:20250829T120000
DTEND;TZID=Asia/Tokyo:20250829T130000
DTSTAMP:20260423T004751
CREATED:20250821T062931Z
LAST-MODIFIED:20250821T062931Z
UID:12551-1756468800-1756472400@viva.setagaya-hp.or.jp
SUMMARY:本日のランチ
DESCRIPTION:ごはん\nカレイの揚げ煮\nかぼちゃの煮物\nオクラのおかか和え\n豚汁\nフルーツ缶 \n
URL:http://viva.setagaya-hp.or.jp/event/%e6%9c%ac%e6%97%a5%e3%81%ae%e3%83%a9%e3%83%b3%e3%83%81-2188/
END:VEVENT
BEGIN:VEVENT
DTSTART;TZID=Asia/Tokyo:20250829T140000
DTEND;TZID=Asia/Tokyo:20250829T150000
DTSTAMP:20260423T004751
CREATED:20250722T055135Z
LAST-MODIFIED:20250722T055135Z
UID:12472-1756476000-1756479600@viva.setagaya-hp.or.jp
SUMMARY:ピアノとフルート&#x1f3b9;
DESCRIPTION:
URL:http://viva.setagaya-hp.or.jp/event/%e3%83%94%e3%82%a2%e3%83%8e%e3%81%a8%e3%83%95%e3%83%ab%e3%83%bc%e3%83%88%f0%9f%8e%b9-50/
END:VEVENT
END:VCALENDAR