BEGIN:VCALENDAR
VERSION:2.0
PRODID:-//ビバ・フローラ - ECPv4.6//NONSGML v1.0//EN
CALSCALE:GREGORIAN
METHOD:PUBLISH
X-WR-CALNAME:ビバ・フローラ
X-ORIGINAL-URL:http://viva.setagaya-hp.or.jp
X-WR-CALDESC:Events for ビバ・フローラ
BEGIN:VEVENT
DTSTART;TZID=Asia/Tokyo:20250902T120000
DTEND;TZID=Asia/Tokyo:20250902T130000
DTSTAMP:20260423T064805
CREATED:20250828T040804Z
LAST-MODIFIED:20250828T040804Z
UID:12560-1756814400-1756818000@viva.setagaya-hp.or.jp
SUMMARY:本日のランチ
DESCRIPTION:ごはん\n鶏の照り焼き\n白菜と厚揚げの含め煮\n青菜のくるみ味噌和え\n芋煮椀\nバナナ \n
URL:http://viva.setagaya-hp.or.jp/event/%e6%9c%ac%e6%97%a5%e3%81%ae%e3%83%a9%e3%83%b3%e3%83%81-2192/
END:VEVENT
END:VCALENDAR