BEGIN:VCALENDAR
VERSION:2.0
PRODID:-//ビバ・フローラ - ECPv4.6//NONSGML v1.0//EN
CALSCALE:GREGORIAN
METHOD:PUBLISH
X-WR-CALNAME:ビバ・フローラ
X-ORIGINAL-URL:http://viva.setagaya-hp.or.jp
X-WR-CALDESC:Events for ビバ・フローラ
BEGIN:VEVENT
DTSTART;TZID=Asia/Tokyo:20250904T093000
DTEND;TZID=Asia/Tokyo:20250904T113000
DTSTAMP:20260423T092815
CREATED:20241127T021400Z
LAST-MODIFIED:20241127T021400Z
UID:11574-1756978200-1756985400@viva.setagaya-hp.or.jp
SUMMARY:散髪✂
DESCRIPTION:
URL:http://viva.setagaya-hp.or.jp/event/%e6%95%a3%e9%ab%aa%e2%9c%82-14/
END:VEVENT
BEGIN:VEVENT
DTSTART;TZID=Asia/Tokyo:20250904T120000
DTEND;TZID=Asia/Tokyo:20250904T130000
DTSTAMP:20260423T092815
CREATED:20250828T040851Z
LAST-MODIFIED:20250828T040851Z
UID:12564-1756987200-1756990800@viva.setagaya-hp.or.jp
SUMMARY:本日のランチ
DESCRIPTION:枝豆ごはん\nアジの塩焼き\nかぼちゃのそぼろ煮\nきゅうりの錦糸甘酢和え\n麩の味噌汁\nヨーグルトババロア \n
URL:http://viva.setagaya-hp.or.jp/event/%e6%9c%ac%e6%97%a5%e3%81%ae%e3%83%a9%e3%83%b3%e3%83%81-2194/
END:VEVENT
BEGIN:VEVENT
DTSTART;TZID=Asia/Tokyo:20250904T140000
DTEND;TZID=Asia/Tokyo:20250904T150000
DTSTAMP:20260423T092815
CREATED:20241127T021513Z
LAST-MODIFIED:20241127T021513Z
UID:11578-1756994400-1756998000@viva.setagaya-hp.or.jp
SUMMARY:音楽会&#x1f3b5;
DESCRIPTION:
URL:http://viva.setagaya-hp.or.jp/event/%e9%9f%b3%e6%a5%bd%e4%bc%9a%f0%9f%8e%b5-145/
END:VEVENT
END:VCALENDAR