BEGIN:VCALENDAR
VERSION:2.0
PRODID:-//ビバ・フローラ - ECPv4.6//NONSGML v1.0//EN
CALSCALE:GREGORIAN
METHOD:PUBLISH
X-WR-CALNAME:ビバ・フローラ
X-ORIGINAL-URL:http://viva.setagaya-hp.or.jp
X-WR-CALDESC:Events for ビバ・フローラ
BEGIN:VEVENT
DTSTART;TZID=Asia/Tokyo:20250912T120000
DTEND;TZID=Asia/Tokyo:20250912T130000
DTSTAMP:20260423T212810
CREATED:20250901T071109Z
LAST-MODIFIED:20250901T071109Z
UID:12585-1757678400-1757682000@viva.setagaya-hp.or.jp
SUMMARY:本日のランチ
DESCRIPTION:ごはん\n八宝菜\nたけのこの甘辛煮\n春雨の中華サラダ\n中華スープ\n杏仁豆腐 \n
URL:http://viva.setagaya-hp.or.jp/event/%e6%9c%ac%e6%97%a5%e3%81%ae%e3%83%a9%e3%83%b3%e3%83%81-2202/
END:VEVENT
END:VCALENDAR