BEGIN:VCALENDAR
VERSION:2.0
PRODID:-//ビバ・フローラ - ECPv4.6//NONSGML v1.0//EN
CALSCALE:GREGORIAN
METHOD:PUBLISH
X-WR-CALNAME:ビバ・フローラ
X-ORIGINAL-URL:http://viva.setagaya-hp.or.jp
X-WR-CALDESC:Events for ビバ・フローラ
BEGIN:VEVENT
DTSTART;TZID=Asia/Tokyo:20250921T120000
DTEND;TZID=Asia/Tokyo:20250921T130000
DTSTAMP:20260424T114326
CREATED:20250919T010340Z
LAST-MODIFIED:20250919T010340Z
UID:12615-1758456000-1758459600@viva.setagaya-hp.or.jp
SUMMARY:本日のランチ
DESCRIPTION:あんかけ焼きそば\n海鮮焼売\nきゅうりの中華和え\n中華スープ\nフルーツ缶 \n
URL:http://viva.setagaya-hp.or.jp/event/%e6%9c%ac%e6%97%a5%e3%81%ae%e3%83%a9%e3%83%b3%e3%83%81-2211/
END:VEVENT
BEGIN:VEVENT
DTSTART;TZID=Asia/Tokyo:20250921T140000
DTEND;TZID=Asia/Tokyo:20250921T150000
DTSTAMP:20260424T114326
CREATED:20250908T021413Z
LAST-MODIFIED:20250908T021413Z
UID:12594-1758463200-1758466800@viva.setagaya-hp.or.jp
SUMMARY:フロアレク
DESCRIPTION:
URL:http://viva.setagaya-hp.or.jp/event/%e3%83%95%e3%83%ad%e3%82%a2%e3%83%ac%e3%82%af-30/
END:VEVENT
END:VCALENDAR