BEGIN:VCALENDAR
VERSION:2.0
PRODID:-//ビバ・フローラ - ECPv4.6//NONSGML v1.0//EN
CALSCALE:GREGORIAN
METHOD:PUBLISH
X-WR-CALNAME:ビバ・フローラ
X-ORIGINAL-URL:http://viva.setagaya-hp.or.jp
X-WR-CALDESC:Events for ビバ・フローラ
BEGIN:VEVENT
DTSTART;VALUE=DATE:20250923
DTEND;VALUE=DATE:20250923
DTSTAMP:20260424T144627
CREATED:20240708T010819Z
LAST-MODIFIED:20240708T010819Z
UID:11014-1758585600-1758671999@viva.setagaya-hp.or.jp
SUMMARY:秋分の日
DESCRIPTION:
URL:http://viva.setagaya-hp.or.jp/event/%e7%a7%8b%e5%88%86%e3%81%ae%e6%97%a5-10/
END:VEVENT
BEGIN:VEVENT
DTSTART;TZID=Asia/Tokyo:20250923T120000
DTEND;TZID=Asia/Tokyo:20250923T130000
DTSTAMP:20260424T144627
CREATED:20250908T021334Z
LAST-MODIFIED:20250919T010735Z
UID:12592-1758628800-1758632400@viva.setagaya-hp.or.jp
SUMMARY:スペシャルランチ
DESCRIPTION:ごはん\n銀たらの山椒味噌漬け\n自家製燻製豆腐\n煮豚バラの炙り～梅塩で～\n春菊・壬生菜・カニ・湯葉\nごぼうのすり流し\n梨のコンポート \n
URL:http://viva.setagaya-hp.or.jp/event/%e3%82%b9%e3%83%9a%e3%82%b7%e3%83%a3%e3%83%ab%e3%83%a9%e3%83%b3%e3%83%81-58/
END:VEVENT
END:VCALENDAR