BEGIN:VCALENDAR
VERSION:2.0
PRODID:-//ビバ・フローラ - ECPv4.6//NONSGML v1.0//EN
CALSCALE:GREGORIAN
METHOD:PUBLISH
X-WR-CALNAME:ビバ・フローラ
X-ORIGINAL-URL:http://viva.setagaya-hp.or.jp
X-WR-CALDESC:Events for ビバ・フローラ
BEGIN:VEVENT
DTSTART;TZID=Asia/Tokyo:20250927T120000
DTEND;TZID=Asia/Tokyo:20250927T130000
DTSTAMP:20260424T203458
CREATED:20250919T010612Z
LAST-MODIFIED:20250919T010612Z
UID:12627-1758974400-1758978000@viva.setagaya-hp.or.jp
SUMMARY:本日のランチ
DESCRIPTION:ごはん\nロールキャベツ\nほうれん草のエビ炒め\nカリフラワーサラダ\nコンソメスープ\nフルーツ缶 \n
URL:http://viva.setagaya-hp.or.jp/event/%e6%9c%ac%e6%97%a5%e3%81%ae%e3%83%a9%e3%83%b3%e3%83%81-2217/
END:VEVENT
BEGIN:VEVENT
DTSTART;TZID=Asia/Tokyo:20250927T153000
DTEND;TZID=Asia/Tokyo:20250927T160000
DTSTAMP:20260424T203458
CREATED:20250908T021201Z
LAST-MODIFIED:20250908T021201Z
UID:12590-1758987000-1758988800@viva.setagaya-hp.or.jp
SUMMARY:看護師による「褥瘡（床ずれ）予防について」説明会
DESCRIPTION:
URL:http://viva.setagaya-hp.or.jp/event/%e7%9c%8b%e8%ad%b7%e5%b8%ab%e3%81%ab%e3%82%88%e3%82%8b%e3%80%8c%e8%a4%a5%e7%98%a1%ef%bc%88%e5%ba%8a%e3%81%9a%e3%82%8c%ef%bc%89%e4%ba%88%e9%98%b2%e3%81%ab%e3%81%a4%e3%81%84%e3%81%a6%e3%80%8d%e8%aa%ac/
END:VEVENT
END:VCALENDAR