BEGIN:VCALENDAR
VERSION:2.0
PRODID:-//ビバ・フローラ - ECPv4.6//NONSGML v1.0//EN
CALSCALE:GREGORIAN
METHOD:PUBLISH
X-WR-CALNAME:ビバ・フローラ
X-ORIGINAL-URL:http://viva.setagaya-hp.or.jp
X-WR-CALDESC:Events for ビバ・フローラ
BEGIN:VEVENT
DTSTART;TZID=Asia/Tokyo:20251007T120000
DTEND;TZID=Asia/Tokyo:20251007T130000
DTSTAMP:20260425T160318
CREATED:20251002T013634Z
LAST-MODIFIED:20251002T013634Z
UID:12656-1759838400-1759842000@viva.setagaya-hp.or.jp
SUMMARY:本日のランチ
DESCRIPTION:バターロール\nビーフシチュー\n温野菜サラダ\nりんごのコンポート \n
URL:http://viva.setagaya-hp.or.jp/event/%e6%9c%ac%e6%97%a5%e3%81%ae%e3%83%a9%e3%83%b3%e3%83%81-2226/
END:VEVENT
END:VCALENDAR