BEGIN:VCALENDAR
VERSION:2.0
PRODID:-//ビバ・フローラ - ECPv4.6//NONSGML v1.0//EN
CALSCALE:GREGORIAN
METHOD:PUBLISH
X-WR-CALNAME:ビバ・フローラ
X-ORIGINAL-URL:http://viva.setagaya-hp.or.jp
X-WR-CALDESC:Events for ビバ・フローラ
BEGIN:VEVENT
DTSTART;TZID=Asia/Tokyo:20251009T120000
DTEND;TZID=Asia/Tokyo:20251009T130000
DTSTAMP:20260425T184340
CREATED:20251002T013727Z
LAST-MODIFIED:20251002T013727Z
UID:12660-1760011200-1760014800@viva.setagaya-hp.or.jp
SUMMARY:本日のランチ
DESCRIPTION:ごはん\n豚ヒレ竜田揚げ\nひじきの五目煮\nほうれん草のピーナッツ和え\nあさりの味噌汁\nマンゴーソースヨーグルト \n
URL:http://viva.setagaya-hp.or.jp/event/%e6%9c%ac%e6%97%a5%e3%81%ae%e3%83%a9%e3%83%b3%e3%83%81-2228/
END:VEVENT
BEGIN:VEVENT
DTSTART;TZID=Asia/Tokyo:20251009T140000
DTEND;TZID=Asia/Tokyo:20251009T150000
DTSTAMP:20260425T184340
CREATED:20250717T043431Z
LAST-MODIFIED:20250717T043431Z
UID:12435-1760018400-1760022000@viva.setagaya-hp.or.jp
SUMMARY:アニマルセラピー
DESCRIPTION:
URL:http://viva.setagaya-hp.or.jp/event/%e3%82%a2%e3%83%8b%e3%83%9e%e3%83%ab%e3%82%bb%e3%83%a9%e3%83%94%e3%83%bc-2/
END:VEVENT
END:VCALENDAR