BEGIN:VCALENDAR
VERSION:2.0
PRODID:-//ビバ・フローラ - ECPv4.6//NONSGML v1.0//EN
CALSCALE:GREGORIAN
METHOD:PUBLISH
X-WR-CALNAME:ビバ・フローラ
X-ORIGINAL-URL:http://viva.setagaya-hp.or.jp
X-WR-CALDESC:Events for ビバ・フローラ
BEGIN:VEVENT
DTSTART;TZID=Asia/Tokyo:20251015T120000
DTEND;TZID=Asia/Tokyo:20251015T130000
DTSTAMP:20260426T025111
CREATED:20251008T054645Z
LAST-MODIFIED:20251008T054645Z
UID:12673-1760529600-1760533200@viva.setagaya-hp.or.jp
SUMMARY:本日のランチ
DESCRIPTION:ターメリックライス\n豆ドライカレー\n福神漬・楽京漬\nれんこんのごまサラダ\n野菜スープ\nいちごババロア \n
URL:http://viva.setagaya-hp.or.jp/event/%e6%9c%ac%e6%97%a5%e3%81%ae%e3%83%a9%e3%83%b3%e3%83%81-2234/
END:VEVENT
BEGIN:VEVENT
DTSTART;TZID=Asia/Tokyo:20251015T140000
DTEND;TZID=Asia/Tokyo:20251015T150000
DTSTAMP:20260426T025111
CREATED:20250930T045246Z
LAST-MODIFIED:20250930T045246Z
UID:12649-1760536800-1760540400@viva.setagaya-hp.or.jp
SUMMARY:ピアノとフルート&#x1f3b9;
DESCRIPTION:
URL:http://viva.setagaya-hp.or.jp/event/%e3%83%94%e3%82%a2%e3%83%8e%e3%81%a8%e3%83%95%e3%83%ab%e3%83%bc%e3%83%88%f0%9f%8e%b9-51/
END:VEVENT
END:VCALENDAR