BEGIN:VCALENDAR
VERSION:2.0
PRODID:-//ビバ・フローラ - ECPv4.6//NONSGML v1.0//EN
CALSCALE:GREGORIAN
METHOD:PUBLISH
X-WR-CALNAME:ビバ・フローラ
X-ORIGINAL-URL:http://viva.setagaya-hp.or.jp
X-WR-CALDESC:Events for ビバ・フローラ
BEGIN:VEVENT
DTSTART;TZID=Asia/Tokyo:20251016T093000
DTEND;TZID=Asia/Tokyo:20251016T113000
DTSTAMP:20260426T041157
CREATED:20241127T022737Z
LAST-MODIFIED:20241127T022737Z
UID:11623-1760607000-1760614200@viva.setagaya-hp.or.jp
SUMMARY:散髪✂
DESCRIPTION:
URL:http://viva.setagaya-hp.or.jp/event/%e6%95%a3%e9%ab%aa%e2%9c%82-17/
END:VEVENT
BEGIN:VEVENT
DTSTART;TZID=Asia/Tokyo:20251016T120000
DTEND;TZID=Asia/Tokyo:20251016T130000
DTSTAMP:20260426T041157
CREATED:20251008T054713Z
LAST-MODIFIED:20251008T054713Z
UID:12675-1760616000-1760619600@viva.setagaya-hp.or.jp
SUMMARY:本日のランチ
DESCRIPTION:鮭しそごはん\n筑前煮\nキャベツの酢味噌和え\n麩のすまし汁\n抹茶ババロア \n
URL:http://viva.setagaya-hp.or.jp/event/%e6%9c%ac%e6%97%a5%e3%81%ae%e3%83%a9%e3%83%b3%e3%83%81-2235/
END:VEVENT
BEGIN:VEVENT
DTSTART;TZID=Asia/Tokyo:20251016T140000
DTEND;TZID=Asia/Tokyo:20251016T150000
DTSTAMP:20260426T041157
CREATED:20241127T022541Z
LAST-MODIFIED:20241127T022541Z
UID:11617-1760623200-1760626800@viva.setagaya-hp.or.jp
SUMMARY:音楽会&#x1f3b5;
DESCRIPTION:
URL:http://viva.setagaya-hp.or.jp/event/%e9%9f%b3%e6%a5%bd%e4%bc%9a%f0%9f%8e%b5-148/
END:VEVENT
END:VCALENDAR