BEGIN:VCALENDAR
VERSION:2.0
PRODID:-//ビバ・フローラ - ECPv4.6//NONSGML v1.0//EN
CALSCALE:GREGORIAN
METHOD:PUBLISH
X-WR-CALNAME:ビバ・フローラ
X-ORIGINAL-URL:http://viva.setagaya-hp.or.jp
X-WR-CALDESC:Events for ビバ・フローラ
BEGIN:VEVENT
DTSTART;TZID=Asia/Tokyo:20260102T120000
DTEND;TZID=Asia/Tokyo:20260102T130000
DTSTAMP:20260426T024547
CREATED:20251220T060810Z
LAST-MODIFIED:20251220T060810Z
UID:12924-1767355200-1767358800@viva.setagaya-hp.or.jp
SUMMARY:本日のランチ
DESCRIPTION:ごはん\n金目鯛の煮つけ\n筑前煮\nきゅうりの酢の物\n麩のすまし汁\n梅・抹茶ようかん \n
URL:http://viva.setagaya-hp.or.jp/event/%e6%9c%ac%e6%97%a5%e3%81%ae%e3%83%a9%e3%83%b3%e3%83%81-2307/
END:VEVENT
END:VCALENDAR