BEGIN:VCALENDAR
VERSION:2.0
PRODID:-//ビバ・フローラ - ECPv4.6//NONSGML v1.0//EN
CALSCALE:GREGORIAN
METHOD:PUBLISH
X-WR-CALNAME:ビバ・フローラ
X-ORIGINAL-URL:http://viva.setagaya-hp.or.jp
X-WR-CALDESC:Events for ビバ・フローラ
BEGIN:VEVENT
DTSTART;VALUE=DATE:20260112
DTEND;VALUE=DATE:20260112
DTSTAMP:20260425T121818
CREATED:20250607T042423Z
LAST-MODIFIED:20250607T042423Z
UID:12196-1768176000-1768262399@viva.setagaya-hp.or.jp
SUMMARY:成人の日
DESCRIPTION:
URL:http://viva.setagaya-hp.or.jp/event/%e6%88%90%e4%ba%ba%e3%81%ae%e6%97%a5-10/
END:VEVENT
BEGIN:VEVENT
DTSTART;TZID=Asia/Tokyo:20260112T120000
DTEND;TZID=Asia/Tokyo:20260112T130000
DTSTAMP:20260425T121818
CREATED:20251226T013716Z
LAST-MODIFIED:20251226T013716Z
UID:12946-1768219200-1768222800@viva.setagaya-hp.or.jp
SUMMARY:本日のランチ
DESCRIPTION:ごはん\n八宝菜\nエビ焼売\nもやしの中華サラダ\n中華スープ\nフルーツ缶 \n
URL:http://viva.setagaya-hp.or.jp/event/%e6%9c%ac%e6%97%a5%e3%81%ae%e3%83%a9%e3%83%b3%e3%83%81-2317/
END:VEVENT
END:VCALENDAR