BEGIN:VCALENDAR
VERSION:2.0
PRODID:-//ビバ・フローラ - ECPv4.6//NONSGML v1.0//EN
CALSCALE:GREGORIAN
METHOD:PUBLISH
X-WR-CALNAME:ビバ・フローラ
X-ORIGINAL-URL:http://viva.setagaya-hp.or.jp
X-WR-CALDESC:Events for ビバ・フローラ
BEGIN:VEVENT
DTSTART;TZID=Asia/Tokyo:20260113T120000
DTEND;TZID=Asia/Tokyo:20260113T130000
DTSTAMP:20260425T105837
CREATED:20251226T013839Z
LAST-MODIFIED:20251226T013839Z
UID:12948-1768305600-1768309200@viva.setagaya-hp.or.jp
SUMMARY:本日のランチ
DESCRIPTION:親子丼\nじゃがいものきんぴら\nキャベツと焼き豚のピリ辛和え\nアサリの味噌汁\nキウイフルーツ \n
URL:http://viva.setagaya-hp.or.jp/event/%e6%9c%ac%e6%97%a5%e3%81%ae%e3%83%a9%e3%83%b3%e3%83%81-2318/
END:VEVENT
END:VCALENDAR