BEGIN:VCALENDAR
VERSION:2.0
PRODID:-//ビバ・フローラ - ECPv4.6//NONSGML v1.0//EN
CALSCALE:GREGORIAN
METHOD:PUBLISH
X-WR-CALNAME:ビバ・フローラ
X-ORIGINAL-URL:http://viva.setagaya-hp.or.jp
X-WR-CALDESC:Events for ビバ・フローラ
BEGIN:VEVENT
DTSTART;VALUE=DATE:20260115
DTEND;VALUE=DATE:20260115
DTSTAMP:20260423T065142
CREATED:20250714T064853Z
LAST-MODIFIED:20250714T064853Z
UID:12376-1768435200-1768521599@viva.setagaya-hp.or.jp
SUMMARY:世田谷ボロ市
DESCRIPTION:
URL:http://viva.setagaya-hp.or.jp/event/%e4%b8%96%e7%94%b0%e8%b0%b7%e3%83%9c%e3%83%ad%e5%b8%82-3/
END:VEVENT
BEGIN:VEVENT
DTSTART;TZID=Asia/Tokyo:20260115T120000
DTEND;TZID=Asia/Tokyo:20260115T130000
DTSTAMP:20260423T065142
CREATED:20251226T013959Z
LAST-MODIFIED:20251226T013959Z
UID:12952-1768478400-1768482000@viva.setagaya-hp.or.jp
SUMMARY:本日のランチ
DESCRIPTION:パン\nクリームシチュー\nコールスローサラダ\nみかん \n
URL:http://viva.setagaya-hp.or.jp/event/%e6%9c%ac%e6%97%a5%e3%81%ae%e3%83%a9%e3%83%b3%e3%83%81-2320/
END:VEVENT
END:VCALENDAR