BEGIN:VCALENDAR
VERSION:2.0
PRODID:-//ビバ・フローラ - ECPv4.6//NONSGML v1.0//EN
CALSCALE:GREGORIAN
METHOD:PUBLISH
X-WR-CALNAME:ビバ・フローラ
X-ORIGINAL-URL:http://viva.setagaya-hp.or.jp
X-WR-CALDESC:Events for ビバ・フローラ
BEGIN:VEVENT
DTSTART;TZID=Asia/Tokyo:20260122T120000
DTEND;TZID=Asia/Tokyo:20260122T130000
DTSTAMP:20260422T195643
CREATED:20251226T065454Z
LAST-MODIFIED:20251226T065454Z
UID:12966-1769083200-1769086800@viva.setagaya-hp.or.jp
SUMMARY:本日のランチ
DESCRIPTION:中華おこわ\n白身魚の野菜あん\nキャベツのエビ炒め\nもやしの中華サラダ\n中華スープ\n杏仁豆腐 \n
URL:http://viva.setagaya-hp.or.jp/event/%e6%9c%ac%e6%97%a5%e3%81%ae%e3%83%a9%e3%83%b3%e3%83%81-2327/
END:VEVENT
BEGIN:VEVENT
DTSTART;TZID=Asia/Tokyo:20260122T140000
DTEND;TZID=Asia/Tokyo:20260122T150000
DTSTAMP:20260422T195643
CREATED:20250714T063057Z
LAST-MODIFIED:20250714T063057Z
UID:12349-1769090400-1769094000@viva.setagaya-hp.or.jp
SUMMARY:音楽会
DESCRIPTION:
URL:http://viva.setagaya-hp.or.jp/event/%e9%9f%b3%e6%a5%bd%e4%bc%9a-149/
END:VEVENT
END:VCALENDAR