BEGIN:VCALENDAR
VERSION:2.0
PRODID:-//ビバ・フローラ - ECPv4.6//NONSGML v1.0//EN
CALSCALE:GREGORIAN
METHOD:PUBLISH
X-WR-CALNAME:ビバ・フローラ
X-ORIGINAL-URL:http://viva.setagaya-hp.or.jp
X-WR-CALDESC:Events for ビバ・フローラ
BEGIN:VEVENT
DTSTART;TZID=Asia/Tokyo:20260126T120000
DTEND;TZID=Asia/Tokyo:20260126T130000
DTSTAMP:20260422T132613
CREATED:20260108T052136Z
LAST-MODIFIED:20260108T052136Z
UID:12975-1769428800-1769432400@viva.setagaya-hp.or.jp
SUMMARY:本日のランチ
DESCRIPTION:ごはん\n豚ヒレ竜田揚げ\nかぼちゃのあずき煮\n白和え\n麩のすまし汁\nアセロラジュレ \n
URL:http://viva.setagaya-hp.or.jp/event/%e6%9c%ac%e6%97%a5%e3%81%ae%e3%83%a9%e3%83%b3%e3%83%81-2331/
END:VEVENT
BEGIN:VEVENT
DTSTART;TZID=Asia/Tokyo:20260126T140000
DTEND;TZID=Asia/Tokyo:20260126T150000
DTSTAMP:20260422T132613
CREATED:20250714T061708Z
LAST-MODIFIED:20250714T061708Z
UID:12342-1769436000-1769439600@viva.setagaya-hp.or.jp
SUMMARY:書道教室
DESCRIPTION:
URL:http://viva.setagaya-hp.or.jp/event/%e6%9b%b8%e9%81%93%e6%95%99%e5%ae%a4-455/
END:VEVENT
END:VCALENDAR